Package: BiocFileCache Version: 2.15.1 Command: rm -rf BiocFileCache.buildbin-libdir && mkdir BiocFileCache.buildbin-libdir && E:\biocbuild\bbs-3.21-bioc\R\bin\R.exe CMD INSTALL --build --library=BiocFileCache.buildbin-libdir BiocFileCache_2.15.1.tar.gz StartedAt: 2025-02-10 07:17:35 -0500 (Mon, 10 Feb 2025) EndedAt: 2025-02-10 07:19:35 -0500 (Mon, 10 Feb 2025) EllapsedTime: 120.3 seconds RetCode: 0 Status: OK PackageFile: BiocFileCache_2.15.1.zip PackageFileSize: 956 KiB