Package: BiocFileCache Version: 2.15.1 Command: chmod a+r BiocFileCache -R && E:\biocbuild\bbs-3.21-bioc\R\bin\R.exe CMD build --keep-empty-dirs --no-resave-data BiocFileCache StartedAt: 2025-02-12 17:30:33 -0500 (Wed, 12 Feb 2025) EndedAt: 2025-02-12 17:32:31 -0500 (Wed, 12 Feb 2025) EllapsedTime: 117.7 seconds RetCode: 0 Status: OK PackageFile: BiocFileCache_2.15.1.tar.gz PackageFileSize: 723.4 KiB