Package: BiocFileCache Version: 2.15.1 Command: E:\biocbuild\bbs-3.21-bioc\R\bin\R.exe CMD INSTALL BiocFileCache StartedAt: 2025-02-09 15:33:34 -0500 (Sun, 09 Feb 2025) EndedAt: 2025-02-09 15:35:30 -0500 (Sun, 09 Feb 2025) EllapsedTime: 115.6 seconds RetCode: 0 Status: OK