Package: BiocHail Version: 1.7.1 Command: /home/biocbuild/R/R/bin/R CMD build --keep-empty-dirs --no-resave-data BiocHail StartedAt: 2025-01-29 21:13:48 -0000 (Wed, 29 Jan 2025) EndedAt: 2025-01-29 21:14:22 -0000 (Wed, 29 Jan 2025) EllapsedTime: 34.0 seconds RetCode: 1 Status: ERROR PackageFile: None PackageFileSize: NA