Package: BiocHubsShiny Version: 1.7.4 Maintainer: Marcel Ramos MaintainerEmail: marcel.ramos at sph.cuny.edu git_url: https://git.bioconductor.org/packages/BiocHubsShiny git_branch: devel git_last_commit: 2f7882d git_last_commit_date: 2025-01-24 11:38:49 -0500 (Fri, 24 Jan 2025)