Package: BiocHubsShiny Version: 1.7.4 Command: rm -rf BiocHubsShiny.buildbin-libdir && mkdir BiocHubsShiny.buildbin-libdir && /Users/biocbuild/BBS/utils/build-universal.sh BiocHubsShiny_1.7.4.tar.gz /Library/Frameworks/R.framework/Resources/bin/R BiocHubsShiny.buildbin-libdir StartedAt: 2025-02-09 22:07:18 -0500 (Sun, 09 Feb 2025) EndedAt: 2025-02-09 22:07:25 -0500 (Sun, 09 Feb 2025) EllapsedTime: 7.1 seconds RetCode: 0 Status: OK PackageFile: BiocHubsShiny_1.7.4.tgz PackageFileSize: 741.4 KiB