Package: BiocHubsShiny Version: 1.7.4 Command: /Library/Frameworks/R.framework/Resources/bin/R CMD build --keep-empty-dirs --no-resave-data BiocHubsShiny StartedAt: 2025-02-04 15:40:51 -0500 (Tue, 04 Feb 2025) EndedAt: 2025-02-04 15:40:59 -0500 (Tue, 04 Feb 2025) EllapsedTime: 8.1 seconds RetCode: 0 Status: OK PackageFile: BiocHubsShiny_1.7.4.tar.gz PackageFileSize: 1.603 MiB