Package: BiocHubsShiny Version: 1.7.4 Command: /home/biocbuild/R/R/bin/R CMD build --keep-empty-dirs --no-resave-data BiocHubsShiny StartedAt: 2025-01-29 21:14:10 -0000 (Wed, 29 Jan 2025) EndedAt: 2025-01-29 21:14:39 -0000 (Wed, 29 Jan 2025) EllapsedTime: 29.0 seconds RetCode: 0 Status: OK PackageFile: BiocHubsShiny_1.7.4.tar.gz PackageFileSize: 1.628 MiB