Package: BiocHubsShiny Version: 1.7.4 Command: /home/biocbuild/R/R/bin/R CMD INSTALL BiocHubsShiny StartedAt: 2025-01-29 20:12:52 -0000 (Wed, 29 Jan 2025) EndedAt: 2025-01-29 20:13:13 -0000 (Wed, 29 Jan 2025) EllapsedTime: 20.7 seconds RetCode: 0 Status: OK