Package: BiocHubsShiny Version: 1.7.4 Command: /home/biocbuild/bbs-3.21-bioc/R/bin/R CMD build --keep-empty-dirs --no-resave-data BiocHubsShiny StartedAt: 2025-02-04 16:20:13 -0500 (Tue, 04 Feb 2025) EndedAt: 2025-02-04 16:20:33 -0500 (Tue, 04 Feb 2025) EllapsedTime: 20.1 seconds RetCode: 0 Status: OK PackageFile: BiocHubsShiny_1.7.4.tar.gz PackageFileSize: 1.603 MiB