Package: BiocHubsShiny Version: 1.7.4 Command: /home/biocbuild/bbs-3.21-bioc/R/bin/R CMD check --install=check:BiocHubsShiny.install-out.txt --library=/home/biocbuild/bbs-3.21-bioc/R/site-library --timings BiocHubsShiny_1.7.4.tar.gz StartedAt: 2025-02-04 20:20:40 -0500 (Tue, 04 Feb 2025) EndedAt: 2025-02-04 20:23:10 -0500 (Tue, 04 Feb 2025) EllapsedTime: 149.4 seconds RetCode: 0 Status: OK CheckDir: BiocHubsShiny.Rcheck Warnings: 0