Package: BiocHubsShiny Version: 1.7.4 Command: /home/biocbuild/bbs-3.21-bioc/R/bin/R CMD INSTALL BiocHubsShiny StartedAt: 2025-02-04 15:24:01 -0500 (Tue, 04 Feb 2025) EndedAt: 2025-02-04 15:24:15 -0500 (Tue, 04 Feb 2025) EllapsedTime: 14.5 seconds RetCode: 0 Status: OK