Package: BiocHubsShiny Version: 1.7.4 Command: E:\biocbuild\bbs-3.21-bioc\R\bin\R.exe CMD check --no-multiarch --install=check:BiocHubsShiny.install-out.txt --library=E:\biocbuild\bbs-3.21-bioc\R\library --no-vignettes --timings BiocHubsShiny_1.7.4.tar.gz StartedAt: 2025-02-09 22:59:16 -0500 (Sun, 09 Feb 2025) EndedAt: 2025-02-09 23:01:48 -0500 (Sun, 09 Feb 2025) EllapsedTime: 152.1 seconds RetCode: 0 Status: OK CheckDir: BiocHubsShiny.Rcheck Warnings: 0