Package: BiocHubsShiny Version: 1.7.4 Command: E:\biocbuild\bbs-3.21-bioc\R\bin\R.exe CMD INSTALL BiocHubsShiny StartedAt: 2025-02-04 16:17:03 -0500 (Tue, 04 Feb 2025) EndedAt: 2025-02-04 16:17:27 -0500 (Tue, 04 Feb 2025) EllapsedTime: 23.7 seconds RetCode: 0 Status: OK