Package: BiocNeighbors Version: 2.1.2 Command: rm -rf BiocNeighbors.buildbin-libdir && mkdir BiocNeighbors.buildbin-libdir && /Users/biocbuild/BBS/utils/build-universal.sh BiocNeighbors_2.1.2.tar.gz /Library/Frameworks/R.framework/Resources/bin/R BiocNeighbors.buildbin-libdir StartedAt: 2025-02-09 22:07:19 -0500 (Sun, 09 Feb 2025) EndedAt: 2025-02-09 22:07:32 -0500 (Sun, 09 Feb 2025) EllapsedTime: 12.3 seconds RetCode: 0 Status: OK PackageFile: BiocNeighbors_2.1.2.tgz PackageFileSize: 685.1 KiB