Package: BiocNeighbors Version: 2.1.2 Command: /Library/Frameworks/R.framework/Resources/bin/R CMD check --install=check:BiocNeighbors.install-out.txt --library=/Library/Frameworks/R.framework/Resources/library --no-vignettes --timings BiocNeighbors_2.1.2.tar.gz StartedAt: 2025-02-09 18:15:51 -0500 (Sun, 09 Feb 2025) EndedAt: 2025-02-09 18:16:06 -0500 (Sun, 09 Feb 2025) EllapsedTime: 15.2 seconds RetCode: 0 Status: OK CheckDir: BiocNeighbors.Rcheck Warnings: 0