Package: BiocNeighbors Version: 2.1.2 Command: rm -rf BiocNeighbors.buildbin-libdir && mkdir BiocNeighbors.buildbin-libdir && /Users/biocbuild/BBS/utils/build-universal.sh BiocNeighbors_2.1.2.tar.gz /Library/Frameworks/R.framework/Resources/bin/R BiocNeighbors.buildbin-libdir StartedAt: 2025-02-10 00:43:52 -0500 (Mon, 10 Feb 2025) EndedAt: 2025-02-10 00:44:40 -0500 (Mon, 10 Feb 2025) EllapsedTime: 47.5 seconds RetCode: 0 Status: OK PackageFile: BiocNeighbors_2.1.2.tgz PackageFileSize: 715 KiB