Package: BiocNeighbors Version: 2.1.2 Command: /Library/Frameworks/R.framework/Resources/bin/R CMD build --keep-empty-dirs --no-resave-data BiocNeighbors StartedAt: 2025-02-09 16:02:45 -0500 (Sun, 09 Feb 2025) EndedAt: 2025-02-09 16:03:32 -0500 (Sun, 09 Feb 2025) EllapsedTime: 47.1 seconds RetCode: 0 Status: OK PackageFile: BiocNeighbors_2.1.2.tar.gz PackageFileSize: 328.6 KiB