Package: BiocNeighbors Version: 2.1.2 Command: /home/biocbuild/bbs-3.21-bioc/R/bin/R CMD build --keep-empty-dirs --no-resave-data BiocNeighbors StartedAt: 2025-02-09 16:22:21 -0500 (Sun, 09 Feb 2025) EndedAt: 2025-02-09 16:23:11 -0500 (Sun, 09 Feb 2025) EllapsedTime: 50.1 seconds RetCode: 0 Status: OK PackageFile: BiocNeighbors_2.1.2.tar.gz PackageFileSize: 328.7 KiB