Package: BiocNeighbors Version: 2.1.2 Command: rm -rf BiocNeighbors.buildbin-libdir && mkdir BiocNeighbors.buildbin-libdir && E:\biocbuild\bbs-3.21-bioc\R\bin\R.exe CMD INSTALL --build --library=BiocNeighbors.buildbin-libdir BiocNeighbors_2.1.2.tar.gz StartedAt: 2025-02-13 07:29:32 -0500 (Thu, 13 Feb 2025) EndedAt: 2025-02-13 07:31:24 -0500 (Thu, 13 Feb 2025) EllapsedTime: 111.7 seconds RetCode: 0 Status: OK PackageFile: BiocNeighbors_2.1.2.zip PackageFileSize: 1.003 MiB