Package: BiocNeighbors Version: 2.1.2 Command: E:\biocbuild\bbs-3.21-bioc\R\bin\R.exe CMD check --no-multiarch --install=check:BiocNeighbors.install-out.txt --library=E:\biocbuild\bbs-3.21-bioc\R\library --no-vignettes --timings BiocNeighbors_2.1.2.tar.gz StartedAt: 2025-02-09 23:00:35 -0500 (Sun, 09 Feb 2025) EndedAt: 2025-02-09 23:01:35 -0500 (Sun, 09 Feb 2025) EllapsedTime: 60.9 seconds RetCode: 0 Status: WARNINGS CheckDir: BiocNeighbors.Rcheck Warnings: 1