Package: BiocSet Version: 1.21.0 Command: /Library/Frameworks/R.framework/Resources/bin/R CMD build --keep-empty-dirs --no-resave-data BiocSet StartedAt: 2025-02-12 15:40:50 -0500 (Wed, 12 Feb 2025) EndedAt: 2025-02-12 15:42:55 -0500 (Wed, 12 Feb 2025) EllapsedTime: 124.3 seconds RetCode: 0 Status: OK PackageFile: BiocSet_1.21.0.tar.gz PackageFileSize: 359 KiB