Package: BiocSet Version: 1.21.0 Command: /home/biocbuild/R/R/bin/R CMD build --keep-empty-dirs --no-resave-data BiocSet StartedAt: 2025-01-28 21:14:26 -0000 (Tue, 28 Jan 2025) EndedAt: 2025-01-28 21:19:37 -0000 (Tue, 28 Jan 2025) EllapsedTime: 311.1 seconds RetCode: 0 Status: OK PackageFile: BiocSet_1.21.0.tar.gz PackageFileSize: 427 KiB