Package: BiocSet Version: 1.21.0 Command: /home/biocbuild/R/R/bin/R CMD check --install=check:BiocSet.install-out.txt --library=/home/biocbuild/R/R/site-library --no-vignettes --timings BiocSet_1.21.0.tar.gz StartedAt: 2025-01-28 03:54:13 -0000 (Tue, 28 Jan 2025) EndedAt: 2025-01-28 08:29:59 -0000 (Tue, 28 Jan 2025) EllapsedTime: 16545.0 seconds RetCode: None Status: TIMEOUT CheckDir: BiocSet.Rcheck Warnings: NA