Package: BiocSet Version: 1.21.0 Command: chmod a+r BiocSet -R && E:\biocbuild\bbs-3.21-bioc\R\bin\R.exe CMD build --keep-empty-dirs --no-resave-data BiocSet StartedAt: 2025-02-12 17:31:50 -0500 (Wed, 12 Feb 2025) EndedAt: 2025-02-12 17:36:25 -0500 (Wed, 12 Feb 2025) EllapsedTime: 275.2 seconds RetCode: 0 Status: OK PackageFile: BiocSet_1.21.0.tar.gz PackageFileSize: 359.5 KiB