Package: BiocStyle Version: 2.35.0 Command: rm -rf BiocStyle.buildbin-libdir && mkdir BiocStyle.buildbin-libdir && /Users/biocbuild/BBS/utils/build-universal.sh BiocStyle_2.35.0.tar.gz /Library/Frameworks/R.framework/Resources/bin/R BiocStyle.buildbin-libdir StartedAt: 2025-02-04 22:09:13 -0500 (Tue, 04 Feb 2025) EndedAt: 2025-02-04 22:09:15 -0500 (Tue, 04 Feb 2025) EllapsedTime: 2.0 seconds RetCode: 0 Status: OK PackageFile: BiocStyle_2.35.0.tgz PackageFileSize: 833.7 KiB