Package: BiocStyle Version: 2.35.0 Command: /Library/Frameworks/R.framework/Resources/bin/R CMD check --install=check:BiocStyle.install-out.txt --library=/Library/Frameworks/R.framework/Resources/library --no-vignettes --timings BiocStyle_2.35.0.tar.gz StartedAt: 2025-02-04 18:16:46 -0500 (Tue, 04 Feb 2025) EndedAt: 2025-02-04 18:17:14 -0500 (Tue, 04 Feb 2025) EllapsedTime: 27.3 seconds RetCode: 0 Status: OK CheckDir: BiocStyle.Rcheck Warnings: 0