Package: BiocStyle Version: 2.35.0 Command: /Library/Frameworks/R.framework/Resources/bin/R CMD INSTALL BiocStyle StartedAt: 2025-02-04 15:16:02 -0500 (Tue, 04 Feb 2025) EndedAt: 2025-02-04 15:16:03 -0500 (Tue, 04 Feb 2025) EllapsedTime: 1.3 seconds RetCode: 0 Status: OK