Package: BiocStyle Version: 2.35.0 Command: /home/biocbuild/R/R/bin/R CMD build --keep-empty-dirs --no-resave-data BiocStyle StartedAt: 2025-01-29 21:15:36 -0000 (Wed, 29 Jan 2025) EndedAt: 2025-01-29 21:15:50 -0000 (Wed, 29 Jan 2025) EllapsedTime: 14.0 seconds RetCode: 0 Status: OK PackageFile: BiocStyle_2.35.0.tar.gz PackageFileSize: 798 KiB