Package: BiocStyle Version: 2.35.0 Command: /Library/Frameworks/R.framework/Resources/bin/R CMD build --keep-empty-dirs --no-resave-data BiocStyle StartedAt: 2025-02-09 16:03:12 -0500 (Sun, 09 Feb 2025) EndedAt: 2025-02-09 16:03:30 -0500 (Sun, 09 Feb 2025) EllapsedTime: 18.3 seconds RetCode: 0 Status: OK PackageFile: BiocStyle_2.35.0.tar.gz PackageFileSize: 772.5 KiB