Package: BiocStyle Version: 2.35.0 Command: /home/biocbuild/bbs-3.21-bioc/R/bin/R CMD build --keep-empty-dirs --no-resave-data BiocStyle StartedAt: 2025-02-12 16:21:10 -0500 (Wed, 12 Feb 2025) EndedAt: 2025-02-12 16:21:21 -0500 (Wed, 12 Feb 2025) EllapsedTime: 11.0 seconds RetCode: 0 Status: OK PackageFile: BiocStyle_2.35.0.tar.gz PackageFileSize: 885.1 KiB