Package: BiocStyle Version: 2.35.0 Command: /home/biocbuild/bbs-3.21-bioc/R/bin/R CMD INSTALL BiocStyle StartedAt: 2025-02-12 15:07:39 -0500 (Wed, 12 Feb 2025) EndedAt: 2025-02-12 15:08:22 -0500 (Wed, 12 Feb 2025) EllapsedTime: 42.8 seconds RetCode: 0 Status: OK