Package: BiocStyle Version: 2.35.0 Command: rm -rf BiocStyle.buildbin-libdir && mkdir BiocStyle.buildbin-libdir && E:\biocbuild\bbs-3.21-bioc\R\bin\R.exe CMD INSTALL --build --library=BiocStyle.buildbin-libdir BiocStyle_2.35.0.tar.gz StartedAt: 2025-02-13 07:29:51 -0500 (Thu, 13 Feb 2025) EndedAt: 2025-02-13 07:30:19 -0500 (Thu, 13 Feb 2025) EllapsedTime: 28.6 seconds RetCode: 0 Status: OK PackageFile: BiocStyle_2.35.0.zip PackageFileSize: 793.6 KiB