Package: BiocStyle Version: 2.35.0 Command: chmod a+r BiocStyle -R && E:\biocbuild\bbs-3.21-bioc\R\bin\R.exe CMD build --keep-empty-dirs --no-resave-data BiocStyle StartedAt: 2025-02-09 17:29:42 -0500 (Sun, 09 Feb 2025) EndedAt: 2025-02-09 17:30:15 -0500 (Sun, 09 Feb 2025) EllapsedTime: 33.6 seconds RetCode: 0 Status: OK PackageFile: BiocStyle_2.35.0.tar.gz PackageFileSize: 710.4 KiB