Package: BiocVersion Version: 3.21.1 Command: rm -rf BiocVersion.buildbin-libdir && mkdir BiocVersion.buildbin-libdir && /Users/biocbuild/BBS/utils/build-universal.sh BiocVersion_3.21.1.tar.gz /Library/Frameworks/R.framework/Resources/bin/R BiocVersion.buildbin-libdir StartedAt: 2025-02-03 22:43:12 -0500 (Mon, 03 Feb 2025) EndedAt: 2025-02-03 22:43:14 -0500 (Mon, 03 Feb 2025) EllapsedTime: 2.1 seconds RetCode: 0 Status: OK PackageFile: BiocVersion_3.21.1.tgz PackageFileSize: 5.822 KiB