Package: BiocVersion Version: 3.21.1 Command: /Library/Frameworks/R.framework/Resources/bin/R CMD INSTALL BiocVersion StartedAt: 2025-02-09 15:01:16 -0500 (Sun, 09 Feb 2025) EndedAt: 2025-02-09 15:01:19 -0500 (Sun, 09 Feb 2025) EllapsedTime: 3.3 seconds RetCode: 0 Status: OK