Package: BiocVersion Version: 3.21.1 Command: /home/biocbuild/R/R/bin/R CMD build --keep-empty-dirs --no-resave-data BiocVersion StartedAt: 2025-01-29 21:15:50 -0000 (Wed, 29 Jan 2025) EndedAt: 2025-01-29 21:15:51 -0000 (Wed, 29 Jan 2025) EllapsedTime: 1.0 seconds RetCode: 0 Status: OK PackageFile: BiocVersion_3.21.1.tar.gz PackageFileSize: 996 bytes