Package: BiocVersion Version: 3.21.1 Command: /home/biocbuild/R/R/bin/R CMD check --install=check:BiocVersion.install-out.txt --library=/home/biocbuild/R/R/site-library --no-vignettes --timings BiocVersion_3.21.1.tar.gz StartedAt: 2025-01-28 03:54:52 -0000 (Tue, 28 Jan 2025) EndedAt: 2025-01-28 03:55:02 -0000 (Tue, 28 Jan 2025) EllapsedTime: 10.0 seconds RetCode: 0 Status: OK CheckDir: BiocVersion.Rcheck Warnings: 0