Package: BiocVersion Version: 3.21.1 Command: /home/biocbuild/R/R/bin/R CMD INSTALL BiocVersion StartedAt: 2025-01-29 19:30:25 -0000 (Wed, 29 Jan 2025) EndedAt: 2025-01-29 19:30:49 -0000 (Wed, 29 Jan 2025) EllapsedTime: 24.4 seconds RetCode: 0 Status: OK