Package: BiocVersion Version: 3.21.1 Command: /Library/Frameworks/R.framework/Resources/bin/R CMD check --install=check:BiocVersion.install-out.txt --library=/Library/Frameworks/R.framework/Resources/library --no-vignettes --timings BiocVersion_3.21.1.tar.gz StartedAt: 2025-02-09 19:20:07 -0500 (Sun, 09 Feb 2025) EndedAt: 2025-02-09 19:20:26 -0500 (Sun, 09 Feb 2025) EllapsedTime: 18.4 seconds RetCode: 0 Status: OK CheckDir: BiocVersion.Rcheck Warnings: 0