Package: BiocVersion Version: 3.21.1 Command: /Library/Frameworks/R.framework/Resources/bin/R CMD INSTALL BiocVersion StartedAt: 2025-02-09 15:03:57 -0500 (Sun, 09 Feb 2025) EndedAt: 2025-02-09 15:04:32 -0500 (Sun, 09 Feb 2025) EllapsedTime: 34.6 seconds RetCode: 0 Status: OK