Package: BiocVersion Version: 3.21.1 Command: /home/biocbuild/bbs-3.21-bioc/R/bin/R CMD check --install=check:BiocVersion.install-out.txt --library=/home/biocbuild/bbs-3.21-bioc/R/site-library --timings BiocVersion_3.21.1.tar.gz StartedAt: 2025-02-09 20:25:14 -0500 (Sun, 09 Feb 2025) EndedAt: 2025-02-09 20:25:26 -0500 (Sun, 09 Feb 2025) EllapsedTime: 11.0 seconds RetCode: 0 Status: OK CheckDir: BiocVersion.Rcheck Warnings: 0