Package: BiocVersion Version: 3.21.1 Command: rm -rf BiocVersion.buildbin-libdir && mkdir BiocVersion.buildbin-libdir && E:\biocbuild\bbs-3.21-bioc\R\bin\R.exe CMD INSTALL --build --library=BiocVersion.buildbin-libdir BiocVersion_3.21.1.tar.gz StartedAt: 2025-02-05 07:31:17 -0500 (Wed, 05 Feb 2025) EndedAt: 2025-02-05 07:31:23 -0500 (Wed, 05 Feb 2025) EllapsedTime: 6.2 seconds RetCode: 0 Status: OK PackageFile: BiocVersion_3.21.1.zip PackageFileSize: 8.206 KiB