Package: BiocVersion Version: 3.21.1 Command: chmod a+r BiocVersion -R && E:\biocbuild\bbs-3.21-bioc\R\bin\R.exe CMD build --keep-empty-dirs --no-resave-data BiocVersion StartedAt: 2025-02-04 17:27:48 -0500 (Tue, 04 Feb 2025) EndedAt: 2025-02-04 17:27:50 -0500 (Tue, 04 Feb 2025) EllapsedTime: 2.0 seconds RetCode: 0 Status: OK PackageFile: BiocVersion_3.21.1.tar.gz PackageFileSize: 1007 bytes