Package: BiocVersion Version: 3.21.1 Command: E:\biocbuild\bbs-3.21-bioc\R\bin\R.exe CMD check --no-multiarch --install=check:BiocVersion.install-out.txt --library=E:\biocbuild\bbs-3.21-bioc\R\library --no-vignettes --timings BiocVersion_3.21.1.tar.gz StartedAt: 2025-02-04 23:27:01 -0500 (Tue, 04 Feb 2025) EndedAt: 2025-02-04 23:27:21 -0500 (Tue, 04 Feb 2025) EllapsedTime: 19.6 seconds RetCode: 0 Status: OK CheckDir: BiocVersion.Rcheck Warnings: 0