Package: BiocVersion Version: 3.21.1 Command: E:\biocbuild\bbs-3.21-bioc\R\bin\R.exe CMD INSTALL BiocVersion StartedAt: 2025-02-04 15:18:29 -0500 (Tue, 04 Feb 2025) EndedAt: 2025-02-04 15:18:38 -0500 (Tue, 04 Feb 2025) EllapsedTime: 9.1 seconds RetCode: 0 Status: OK