Package: BiocWorkflowTools Version: 1.33.0 Command: /home/biocbuild/R/R/bin/R CMD build --keep-empty-dirs --no-resave-data BiocWorkflowTools StartedAt: 2025-01-29 21:15:58 -0000 (Wed, 29 Jan 2025) EndedAt: 2025-01-29 21:16:06 -0000 (Wed, 29 Jan 2025) EllapsedTime: 8.0 seconds RetCode: 0 Status: OK PackageFile: BiocWorkflowTools_1.33.0.tar.gz PackageFileSize: 999 KiB