Package: BiocWorkflowTools Version: 1.33.0 Command: /home/biocbuild/R/R/bin/R CMD INSTALL BiocWorkflowTools StartedAt: 2025-01-29 20:07:16 -0000 (Wed, 29 Jan 2025) EndedAt: 2025-01-29 20:07:20 -0000 (Wed, 29 Jan 2025) EllapsedTime: 3.7 seconds RetCode: 0 Status: OK