Package: BiocWorkflowTools Version: 1.33.0 Command: /Library/Frameworks/R.framework/Resources/bin/R CMD build --keep-empty-dirs --no-resave-data BiocWorkflowTools StartedAt: 2025-02-09 16:03:17 -0500 (Sun, 09 Feb 2025) EndedAt: 2025-02-09 16:03:27 -0500 (Sun, 09 Feb 2025) EllapsedTime: 9.1 seconds RetCode: 0 Status: OK PackageFile: BiocWorkflowTools_1.33.0.tar.gz PackageFileSize: 974.9 KiB