Package: BiocWorkflowTools Version: 1.33.0 Command: /Library/Frameworks/R.framework/Resources/bin/R CMD check --install=check:BiocWorkflowTools.install-out.txt --library=/Library/Frameworks/R.framework/Resources/library --no-vignettes --timings BiocWorkflowTools_1.33.0.tar.gz StartedAt: 2025-02-09 19:20:18 -0500 (Sun, 09 Feb 2025) EndedAt: 2025-02-09 19:20:55 -0500 (Sun, 09 Feb 2025) EllapsedTime: 36.8 seconds RetCode: 0 Status: OK CheckDir: BiocWorkflowTools.Rcheck Warnings: 0